BEGIN:VCALENDAR
VERSION:2.0
PRODID:-//Künstlerkiste e.V. - ECPv6.15.16//NONSGML v1.0//EN
CALSCALE:GREGORIAN
METHOD:PUBLISH
X-WR-CALNAME:Künstlerkiste e.V.
X-ORIGINAL-URL:https://kuenstlerkiste-ev.de
X-WR-CALDESC:Veranstaltungen für Künstlerkiste e.V.
REFRESH-INTERVAL;VALUE=DURATION:PT1H
X-Robots-Tag:noindex
X-PUBLISHED-TTL:PT1H
BEGIN:VTIMEZONE
TZID:Europe/Berlin
BEGIN:DAYLIGHT
TZOFFSETFROM:+0100
TZOFFSETTO:+0200
TZNAME:CEST
DTSTART:20230326T010000
END:DAYLIGHT
BEGIN:STANDARD
TZOFFSETFROM:+0200
TZOFFSETTO:+0100
TZNAME:CET
DTSTART:20231029T010000
END:STANDARD
BEGIN:DAYLIGHT
TZOFFSETFROM:+0100
TZOFFSETTO:+0200
TZNAME:CEST
DTSTART:20240331T010000
END:DAYLIGHT
BEGIN:STANDARD
TZOFFSETFROM:+0200
TZOFFSETTO:+0100
TZNAME:CET
DTSTART:20241027T010000
END:STANDARD
BEGIN:DAYLIGHT
TZOFFSETFROM:+0100
TZOFFSETTO:+0200
TZNAME:CEST
DTSTART:20250330T010000
END:DAYLIGHT
BEGIN:STANDARD
TZOFFSETFROM:+0200
TZOFFSETTO:+0100
TZNAME:CET
DTSTART:20251026T010000
END:STANDARD
BEGIN:DAYLIGHT
TZOFFSETFROM:+0100
TZOFFSETTO:+0200
TZNAME:CEST
DTSTART:20260329T010000
END:DAYLIGHT
BEGIN:STANDARD
TZOFFSETFROM:+0200
TZOFFSETTO:+0100
TZNAME:CET
DTSTART:20261025T010000
END:STANDARD
BEGIN:DAYLIGHT
TZOFFSETFROM:+0100
TZOFFSETTO:+0200
TZNAME:CEST
DTSTART:20270328T010000
END:DAYLIGHT
BEGIN:STANDARD
TZOFFSETFROM:+0200
TZOFFSETTO:+0100
TZNAME:CET
DTSTART:20271031T010000
END:STANDARD
END:VTIMEZONE
BEGIN:VEVENT
DTSTART;TZID=Europe/Berlin:20260305T193000
DTEND;TZID=Europe/Berlin:20260305T220000
DTSTAMP:20260421T111413
CREATED:20250930T161405Z
LAST-MODIFIED:20250930T161405Z
UID:292-1772739000-1772748000@kuenstlerkiste-ev.de
SUMMARY:18. Friedrichsdorfer Poetry Slam
DESCRIPTION:Freie Sitzplatzwahl \nTickets online bei Eventim \noder im Eiscafe DaGiusy\, Philipp-Reis-Passage 5\, 61381 Friedrichsdorf \nEinlass 19:00    Beginn: 19:30 \n\nPreise: Erwachsene 15€    Ermäßigt: 11€
URL:https://kuenstlerkiste-ev.de/event/18-friedrichsdorfer-poetry-slam/
LOCATION:Ganiers Keller\, Hugenottenstraße 117\, Friedrichsdorf\, 61381\, Deutschland
CATEGORIES:Alle,Poetry Slam
END:VEVENT
BEGIN:VEVENT
DTSTART;TZID=Europe/Berlin:20260205T193000
DTEND;TZID=Europe/Berlin:20260205T220000
DTSTAMP:20260421T111413
CREATED:20250930T161315Z
LAST-MODIFIED:20250930T161315Z
UID:290-1770319800-1770328800@kuenstlerkiste-ev.de
SUMMARY:17. Friedrichsdorfer Poetry Slam
DESCRIPTION:Freie Sitzplatzwahl \nTickets online bei Eventim \noder im Eiscafe DaGiusy\, Philipp-Reis-Passage 5\, 61381 Friedrichsdorf \nEinlass 19:00    Beginn: 19:30 \n\nPreise: Erwachsene 15€    Ermäßigt: 11€
URL:https://kuenstlerkiste-ev.de/event/17-friedrichsdorfer-poetry-slam/
LOCATION:Ganiers Keller\, Hugenottenstraße 117\, Friedrichsdorf\, 61381\, Deutschland
CATEGORIES:Alle,Poetry Slam
END:VEVENT
BEGIN:VEVENT
DTSTART;TZID=Europe/Berlin:20251127T193000
DTEND;TZID=Europe/Berlin:20251127T220000
DTSTAMP:20260421T111413
CREATED:20250127T150030Z
LAST-MODIFIED:20250826T211751Z
UID:189-1764271800-1764280800@kuenstlerkiste-ev.de
SUMMARY:NOVEMBER Singer-Songwriter Night im Färberhäuschen
DESCRIPTION:
URL:https://kuenstlerkiste-ev.de/event/november-singer-songwriter-night-im-faerberhaeuschen-2/
LOCATION:Bistro Färberhäuschen\, Hugenottenstraße 104\, Friedrichsdorf\, 61381\, Deutschland
CATEGORIES:Alle,Singer-Songwriter Night
END:VEVENT
BEGIN:VEVENT
DTSTART;TZID=Europe/Berlin:20251120T193000
DTEND;TZID=Europe/Berlin:20251120T220000
DTSTAMP:20260421T111413
CREATED:20250930T161227Z
LAST-MODIFIED:20250930T161544Z
UID:288-1763667000-1763676000@kuenstlerkiste-ev.de
SUMMARY:16. Friedrichsdorfer Poetry Slam
DESCRIPTION:Freie Sitzplatzwahl \nTickets online bei Eventim \noder im Eiscafe DaGiusy\, Philipp-Reis-Passage 5\, 61381 Friedrichsdorf \nEinlass 19:00    Beginn: 19:30 \n\nPreise: Erwachsene 15€    Ermäßigt: 11€
URL:https://kuenstlerkiste-ev.de/event/16-friedrichsdorfer-poetry-slam/
LOCATION:Ganiers Keller\, Hugenottenstraße 117\, Friedrichsdorf\, 61381\, Deutschland
CATEGORIES:Alle,Poetry Slam
END:VEVENT
BEGIN:VEVENT
DTSTART;TZID=Europe/Berlin:20251030T193000
DTEND;TZID=Europe/Berlin:20251030T220000
DTSTAMP:20260421T111413
CREATED:20250127T150004Z
LAST-MODIFIED:20250127T150004Z
UID:187-1761852600-1761861600@kuenstlerkiste-ev.de
SUMMARY:OKTOBER Singer-Songwriter Night im Färberhäuschen
DESCRIPTION:
URL:https://kuenstlerkiste-ev.de/event/oktober-singer-songwriter-night-im-faerberhaeuschen/
LOCATION:Bistro Färberhäuschen\, Hugenottenstraße 104\, Friedrichsdorf\, 61381\, Deutschland
CATEGORIES:Alle,Singer-Songwriter Night
END:VEVENT
BEGIN:VEVENT
DTSTART;TZID=Europe/Berlin:20251023T193000
DTEND;TZID=Europe/Berlin:20251023T220000
DTSTAMP:20260421T111413
CREATED:20250930T161141Z
LAST-MODIFIED:20250930T161141Z
UID:286-1761247800-1761256800@kuenstlerkiste-ev.de
SUMMARY:15. Friedrichsdorfer Poetry Slam
DESCRIPTION:Freie Sitzplatzwahl \nTickets online bei Eventim \noder im Eiscafe DaGiusy\, Philipp-Reis-Passage 5\, 61381 Friedrichsdorf \nEinlass 19:00    Beginn: 19:30 \n\nPreise: Erwachsene 15€    Ermäßigt: 11€
URL:https://kuenstlerkiste-ev.de/event/15-friedrichsdorfer-poetry-slam/
LOCATION:Ganiers Keller\, Hugenottenstraße 117\, Friedrichsdorf\, 61381\, Deutschland
CATEGORIES:Alle,Poetry Slam
END:VEVENT
BEGIN:VEVENT
DTSTART;TZID=Europe/Berlin:20250927T190000
DTEND;TZID=Europe/Berlin:20250927T223000
DTSTAMP:20260421T111413
CREATED:20250826T212744Z
LAST-MODIFIED:20250826T213043Z
UID:274-1758999600-1759012200@kuenstlerkiste-ev.de
SUMMARY:Team Finale Hessenslam 2025\, Ginsheim-Gustavsburg
DESCRIPTION:Hessenslam 2025 – Team-Finale – 27. September – Burg-Lichtspiele\, Ginsheim-Gustavsburg \n  \nZwei Stimmen. Ein Text. Unendliche Möglichkeiten. \nZum Abschluss des Hessenslam 2025 liefern sich die besten Poetry-Slam-Teams Hessens ein Duell der besonderen Art. Im Team-Finale verschmelzen Sprache\, Rhythmus und Performance zu einem einzigartigen Erlebnis. Ob Dialog\, Doppeldeutigkeit oder dramaturgischer Kniff – hier zählt das Zusammenspiel. Kreative Köpfe\, gemeinsamer Flow\, große Bühne. \n  \nDas Team-Finale findet am Samstag\, 27. September 2025\, in den Burg-Lichtspielen Ginsheim-Gustavsburg (Darmstädter Landstraße 62\, 65462 Ginsheim-Gustavsburg) statt. \nEinlass ist um 18:00 Uhr\, Beginn um 19:00 Uhr. Der Hessenslam 2025 ist eine Kooperation der Künstlerkiste e.V.\, Vereine Achterbahn e.V.\, und Kunstgriff e.V. \nTickets unter: https://kuenstlerkiste-ev.de/tickets
URL:https://kuenstlerkiste-ev.de/event/team-finale-hessenslam-2025/
LOCATION:Burg-Lichtspiele\, Ginsheim-Gustavsburg\, Darmstädter Landstraße 62\, Ginsheim-Gustavsburg\, 65462\, Germany
CATEGORIES:Alle,Poetry Slam
END:VEVENT
BEGIN:VEVENT
DTSTART;TZID=Europe/Berlin:20250925T193000
DTEND;TZID=Europe/Berlin:20250925T220000
DTSTAMP:20260421T111413
CREATED:20250127T145938Z
LAST-MODIFIED:20250127T145938Z
UID:185-1758828600-1758837600@kuenstlerkiste-ev.de
SUMMARY:SEPTEMBER Singer-Songwriter Night im Färberhäuschen
DESCRIPTION:
URL:https://kuenstlerkiste-ev.de/event/september-singer-songwriter-night-im-faerberhaeuschen/
LOCATION:Bistro Färberhäuschen\, Hugenottenstraße 104\, Friedrichsdorf\, 61381\, Deutschland
CATEGORIES:Alle,Singer-Songwriter Night
END:VEVENT
BEGIN:VEVENT
DTSTART;TZID=Europe/Berlin:20250920T190000
DTEND;TZID=Europe/Berlin:20250920T223000
DTSTAMP:20260421T111413
CREATED:20250826T212651Z
LAST-MODIFIED:20250826T213029Z
UID:269-1758394800-1758407400@kuenstlerkiste-ev.de
SUMMARY:Hessenslam 2025 "Das Finale"\, Forum Friedrichsdorf
DESCRIPTION:Hessenslam 2025 – Finale – 20. September – Forum Friedrichsdorf \n  \nWer wird Hessens Slam-Champion 2025? \nIn der Stadthalle Friedrichsdorf gipfelt der Hessenslam 2025 im großen Einzel-Finale. Die Besten der Besten stehen auf der Bühne – bereit\, mit ihren Texten zu begeistern\, zu bewegen und Geschichte zu schreiben. Ein Abend\, der Gänsehaut garantiert und den Puls der hessischen Spoken-Word-Szene fühlbar macht. Das Highlight des Festivals – live undunvergesslich. \n  \nDas Finale findet am Samstag\, 20. September 2025\, im Forum Friedrichsdorf (Dreieichstraße 22\, 61381 Friedrichsdorf) statt. Einlass ist um 18:00 Uhr\, Beginn um 19:00 Uhr. Der Hessenslam 2025 ist eine Kooperation der Vereine Künstlerkiste e.V.\, Achterbahn e.V. und Kunstgriff e.V. \nTickets unter: https://kuenstlerkiste-ev.de/tickets
URL:https://kuenstlerkiste-ev.de/event/hessenslam-2025-das-finale/
LOCATION:Forum Friedrichsdorf\, Dreieichstr. 22\, Friedrichsdorf\, 61381\, Germany
CATEGORIES:Alle,Poetry Slam
END:VEVENT
BEGIN:VEVENT
DTSTART;TZID=Europe/Berlin:20250919T190000
DTEND;TZID=Europe/Berlin:20250919T223000
DTSTAMP:20260421T111413
CREATED:20250826T212526Z
LAST-MODIFIED:20250826T212903Z
UID:267-1758308400-1758321000@kuenstlerkiste-ev.de
SUMMARY:Hessenslam 2025 Vorrunde 2\, Oberursel
DESCRIPTION:Hessenslam 2025 – Vorrunde 2 – 19. September – Portstraße\, Oberursel \n  \nPoetry Clash im Taunus \nOberursel wird zur Bühne für die erste Vorrunde des Hessenslam 2025. Hier treffen Sprachvirtuosinnen und -virtuosen aus ganz Hessen aufeinander – bewaffnet mit Text\, Timing und Tonalität. Im literarischen Schlagabtausch entscheidet das Publikum\, wer es ins große Finale schafft. Ein Abend voller überraschender Perspektiven\, starker Stimmen und echter Bühnenmagie. \n  \nDie zweite Vorrunde findet am Freitag\, 19. September 2025\, im Kulturzentrum Portstraße (Hohemarkstraße 18\, 61440 Oberursel) statt. Einlass ist um 18:00 Uhr\, Beginn um 19:00 \nUhr. Der Hessenslam 2025 ist eine Kooperation der Vereine Künstlerkiste e.V.\, Achterbahn e.V. und Kunstgriff e.V. \nTickets unter: https://kuenstlerkiste-ev.de/tickets
URL:https://kuenstlerkiste-ev.de/event/hessenslam-2025-vorrunde-2-oberursel/
LOCATION:Cafe Portstrasse\, Oberursel\, Hohemarkstraße 18\, Oberursel (Taunus)\, 61440\, Germany
CATEGORIES:Alle,Poetry Slam
END:VEVENT
BEGIN:VEVENT
DTSTART;TZID=Europe/Berlin:20250919T190000
DTEND;TZID=Europe/Berlin:20250919T223000
DTSTAMP:20260421T111413
CREATED:20250826T212420Z
LAST-MODIFIED:20250826T212908Z
UID:265-1758308400-1758321000@kuenstlerkiste-ev.de
SUMMARY:Hessenslam 2025 Vorrunde 1\, Bad Homburg
DESCRIPTION:Hessenslam 2025 – Vorrunde 1 – 19. September – Stadtbibliothek\, Bad Homburg \n  \nTexte\, die treffen. Stimmen\, die bleiben. \nBad Homburg lädt ein zur zweiten Vorrunde des Hessenslam 2025. Die besten Slammerinnen und Slammer des Landes liefern sich ein sprachliches Kopf-an-Kopf-Rennen – pointiert\, politisch\, poetisch. In dieser Nacht entscheidet jede Silbe\, jeder Applaus\, jedes Publikumsvotum. Erlebe Wortkunst auf höchstem Niveau und finde deine Favoritinnen und Favoriten für das Finale. \n  \nDie erste Vorrunde findet am Freitag\, 19. September 2025\, in der Stadtbibliothek Bad Homburg (Dorotheenstraße 24\, 61348 Bad Homburg vor der Höhe) statt. Einlass ist um \n18:00 Uhr\, Beginn um 19:00 Uhr. Der Hessenslam 2025 ist eine Kooperation der Vereine Künstlerkiste e.V.\, Achterbahn e.V. und Kunstgriff e.V. \nTickets unter: https://kuenstlerkiste-ev.de/tickets
URL:https://kuenstlerkiste-ev.de/event/hessenslam-2025-vorrunde-1-bad-homburg/
LOCATION:Stadtbibliothek Bad Homburg vor der Höhe\, Dorotheenstr. 24\, Bad Homburg vor der Höhe\, 61348\, Germany
CATEGORIES:Alle,Poetry Slam
END:VEVENT
BEGIN:VEVENT
DTSTART;TZID=Europe/Berlin:20250913T190000
DTEND;TZID=Europe/Berlin:20250913T223000
DTSTAMP:20260421T111413
CREATED:20250826T212317Z
LAST-MODIFIED:20250826T212912Z
UID:263-1757790000-1757802600@kuenstlerkiste-ev.de
SUMMARY:Hessenslam 2025 U20 Finale\, Ginsheim-Gustavsburg
DESCRIPTION:Hessenslam 2025 – U20 Finale – 13. September – Burg-Lichtspiele\, Ginsheim-Gustavsburg \n  \nJung. Laut. Lyrisch. \nBeim U20-Finale des Hessenslam 2025 übernehmen die jungen Stimmen die Bühne. In den charmanten Burg-Lichtspielen zeigen Hessens beste Nachwuchs-Poetinnen und -Poeten\, dass Bühnenliteratur keine Altersgrenzen kennt. Sprachgewaltig\, witzig\, berührend – dieser Abend ist ein energiegeladenes Feuerwerk aus Wortkunst und Talent. Wer holt sich den Titel? Sei live dabei\, wenn die Slam-Zukunft Hessens geschrieben wird. \n  \nDas U20-Finale findet am Samstag\, 13. September 2025\, in den Burg-Lichtspielen Ginsheim-Gustavsburg (Darmstädter Landstraße 62\, 65462 Ginsheim-Gustavsburg) statt. Einlass ist um 18:00 Uhr\, Beginn um 19:00 Uhr. Der Hessenslam 2025 ist eine Kooperation der Vereine Künstlerkiste e.V.\, Achterbahn e.V. und Kunstgriff e.V. \nTickets unter: https://kuenstlerkiste-ev.de/tickets
URL:https://kuenstlerkiste-ev.de/event/hessenslam-2025-u20-finale-ginsheim-gustavsburg/
LOCATION:Burg-Lichtspiele\, Ginsheim-Gustavsburg\, Darmstädter Landstraße 62\, Ginsheim-Gustavsburg\, 65462\, Germany
CATEGORIES:Alle,Poetry Slam
END:VEVENT
BEGIN:VEVENT
DTSTART;TZID=Europe/Berlin:20250828T193000
DTEND;TZID=Europe/Berlin:20250828T220000
DTSTAMP:20260421T111413
CREATED:20250127T145909Z
LAST-MODIFIED:20250127T145913Z
UID:183-1756409400-1756418400@kuenstlerkiste-ev.de
SUMMARY:AUGUST Singer-Songwriter Night im Färberhäuschen
DESCRIPTION:
URL:https://kuenstlerkiste-ev.de/event/august-singer-songwriter-night-im-faerberhaeuschen/
LOCATION:Bistro Färberhäuschen\, Hugenottenstraße 104\, Friedrichsdorf\, 61381\, Deutschland
CATEGORIES:Alle,Singer-Songwriter Night
END:VEVENT
BEGIN:VEVENT
DTSTART;TZID=Europe/Berlin:20250731T193000
DTEND;TZID=Europe/Berlin:20250731T220000
DTSTAMP:20260421T111413
CREATED:20250127T145849Z
LAST-MODIFIED:20250127T145849Z
UID:181-1753990200-1753999200@kuenstlerkiste-ev.de
SUMMARY:JULI Singer-Songwriter Night im Färberhäuschen
DESCRIPTION:
URL:https://kuenstlerkiste-ev.de/event/juli-singer-songwriter-night-im-faerberhaeuschen/
LOCATION:Bistro Färberhäuschen\, Hugenottenstraße 104\, Friedrichsdorf\, 61381\, Deutschland
END:VEVENT
BEGIN:VEVENT
DTSTART;TZID=Europe/Berlin:20250618T193000
DTEND;TZID=Europe/Berlin:20250618T220000
DTSTAMP:20260421T111413
CREATED:20250127T145814Z
LAST-MODIFIED:20250608T181540Z
UID:179-1750275000-1750284000@kuenstlerkiste-ev.de
SUMMARY:JUNI Kul-T(o)ur-Special - The Benchfries im Färberhäuschen
DESCRIPTION:Veranstalter: Le Bistro Färberhäuschen\, Support durch Künstlerkiste e.V.
URL:https://kuenstlerkiste-ev.de/event/juni-singer-songwriter-night-im-faerberhaeuschen/
LOCATION:Bistro Färberhäuschen\, Hugenottenstraße 104\, Friedrichsdorf\, 61381\, Deutschland
CATEGORIES:Alle,Singer-Songwriter Night
END:VEVENT
BEGIN:VEVENT
DTSTART;TZID=Europe/Berlin:20250529T193000
DTEND;TZID=Europe/Berlin:20250529T220000
DTSTAMP:20260421T111413
CREATED:20250127T145743Z
LAST-MODIFIED:20250515T171528Z
UID:177-1748547000-1748556000@kuenstlerkiste-ev.de
SUMMARY:ENTFÄLLT: MAI Singer-Songwriter Night im Färberhäuschen
DESCRIPTION:Dieser Termin fällt leider aus.
URL:https://kuenstlerkiste-ev.de/event/mai-singer-songwriter-night-im-faerberhaeuschen/
LOCATION:Bistro Färberhäuschen\, Hugenottenstraße 104\, Friedrichsdorf\, 61381\, Deutschland
CATEGORIES:Alle,Singer-Songwriter Night
END:VEVENT
BEGIN:VEVENT
DTSTART;TZID=Europe/Berlin:20250515T193000
DTEND;TZID=Europe/Berlin:20250515T220000
DTSTAMP:20260421T111413
CREATED:20241206T002459Z
LAST-MODIFIED:20241206T002459Z
UID:165-1747337400-1747346400@kuenstlerkiste-ev.de
SUMMARY:14. Friedrichsdorfer Poetry Slam
DESCRIPTION:Freie Sitzplatzwahl \nTickets online bei Eventim \noder im Eiscafe DaGiusy\, Philipp-Reis-Passage 5\, 61381 Friedrichsdorf \nEinlass 19:00    Beginn: 19:30 \n\nPreise: Erwachsene 15€    Ermäßigt: 11€
URL:https://kuenstlerkiste-ev.de/event/14-friedrichsdorfer-poetry-slam/
LOCATION:Ganiers Keller\, Hugenottenstraße 117\, Friedrichsdorf\, 61381\, Deutschland
CATEGORIES:Alle,Poetry Slam
END:VEVENT
BEGIN:VEVENT
DTSTART;TZID=Europe/Berlin:20250424T193000
DTEND;TZID=Europe/Berlin:20250424T220000
DTSTAMP:20260421T111413
CREATED:20250127T145641Z
LAST-MODIFIED:20250127T145641Z
UID:175-1745523000-1745532000@kuenstlerkiste-ev.de
SUMMARY:APRIL Singer-Songwriter Night im Färberhäuschen
DESCRIPTION:
URL:https://kuenstlerkiste-ev.de/event/april-singer-songwriter-night-im-faerberhaeuschen/
LOCATION:Bistro Färberhäuschen\, Hugenottenstraße 104\, Friedrichsdorf\, 61381\, Deutschland
CATEGORIES:Alle,Singer-Songwriter Night
END:VEVENT
BEGIN:VEVENT
DTSTART;TZID=Europe/Berlin:20250410T193000
DTEND;TZID=Europe/Berlin:20250410T220000
DTSTAMP:20260421T111413
CREATED:20241206T002418Z
LAST-MODIFIED:20241210T082221Z
UID:163-1744313400-1744322400@kuenstlerkiste-ev.de
SUMMARY:13. Friedrichsdorfer Poetry Slam
DESCRIPTION:Freie Sitzplatzwahl \nTickets online bei Eventim \noder im Eiscafe DaGiusy\, Philipp-Reis-Passage 5\, 61381 Friedrichsdorf \nEinlass 19:00    Beginn: 19:30 \n\nPreise: Erwachsene 15€    Ermäßigt: 11€
URL:https://kuenstlerkiste-ev.de/event/13-friedrichsdorfer-poetry-slam/
LOCATION:Ganiers Keller\, Hugenottenstraße 117\, Friedrichsdorf\, 61381\, Deutschland
CATEGORIES:Alle,Poetry Slam
END:VEVENT
BEGIN:VEVENT
DTSTART;TZID=Europe/Berlin:20250327T193000
DTEND;TZID=Europe/Berlin:20250327T220000
DTSTAMP:20260421T111413
CREATED:20250127T145349Z
LAST-MODIFIED:20250127T145349Z
UID:173-1743103800-1743112800@kuenstlerkiste-ev.de
SUMMARY:MÄRZ Singer-Songwriter Night im Färberhäuschen
DESCRIPTION:
URL:https://kuenstlerkiste-ev.de/event/maerz-singer-songwriter-night-im-faerberhaeuschen/
LOCATION:Bistro Färberhäuschen\, Hugenottenstraße 104\, Friedrichsdorf\, 61381\, Deutschland
CATEGORIES:Alle,Singer-Songwriter Night
END:VEVENT
BEGIN:VEVENT
DTSTART;TZID=Europe/Berlin:20250313T193000
DTEND;TZID=Europe/Berlin:20250313T220000
DTSTAMP:20260421T111413
CREATED:20241206T002335Z
LAST-MODIFIED:20241206T002335Z
UID:161-1741894200-1741903200@kuenstlerkiste-ev.de
SUMMARY:12. Friedrichsdorfer Poetry Slam
DESCRIPTION:Freie Sitzplatzwahl \nTickets online bei Eventim \noder im Eiscafe DaGiusy\, Philipp-Reis-Passage 5\, 61381 Friedrichsdorf \nEinlass 19:00    Beginn: 19:30 \n\nPreise: Erwachsene 15€    Ermäßigt: 11€
URL:https://kuenstlerkiste-ev.de/event/12-friedrichsdorfer-poetry-slam/
LOCATION:Ganiers Keller\, Hugenottenstraße 117\, Friedrichsdorf\, 61381\, Deutschland
CATEGORIES:Alle,Poetry Slam
END:VEVENT
BEGIN:VEVENT
DTSTART;TZID=Europe/Berlin:20250227T193000
DTEND;TZID=Europe/Berlin:20250227T220000
DTSTAMP:20260421T111413
CREATED:20250127T144731Z
LAST-MODIFIED:20250127T144731Z
UID:171-1740684600-1740693600@kuenstlerkiste-ev.de
SUMMARY:FEBRUAR Singer-Songwriter Night im Färberhäuschen
DESCRIPTION:
URL:https://kuenstlerkiste-ev.de/event/februar-singer-songwriter-night-im-faerberhaeuschen/
LOCATION:Bistro Färberhäuschen\, Hugenottenstraße 104\, Friedrichsdorf\, 61381\, Deutschland
CATEGORIES:Alle,Singer-Songwriter Night
END:VEVENT
BEGIN:VEVENT
DTSTART;TZID=Europe/Berlin:20250220T193000
DTEND;TZID=Europe/Berlin:20250220T220000
DTSTAMP:20260421T111413
CREATED:20241206T002554Z
LAST-MODIFIED:20241206T002554Z
UID:167-1740079800-1740088800@kuenstlerkiste-ev.de
SUMMARY:11. Friedrichsdorfer Poetry Slam
DESCRIPTION:Freie Sitzplatzwahl \nTickets online bei Eventim \noder im Eiscafe DaGiusy\, Philipp-Reis-Passage 5\, 61381 Friedrichsdorf \nEinlass 19:00    Beginn: 19:30 \n\nPreise: Erwachsene 15€    Ermäßigt: 11€
URL:https://kuenstlerkiste-ev.de/event/11-friedrichsdorfer-poetry-slam-2/
LOCATION:Ganiers Keller\, Hugenottenstraße 117\, Friedrichsdorf\, 61381\, Deutschland
CATEGORIES:Alle,Poetry Slam
END:VEVENT
BEGIN:VEVENT
DTSTART;TZID=Europe/Berlin:20250123T193000
DTEND;TZID=Europe/Berlin:20250123T220000
DTSTAMP:20260421T111413
CREATED:20241206T002054Z
LAST-MODIFIED:20241206T002054Z
UID:156-1737660600-1737669600@kuenstlerkiste-ev.de
SUMMARY:10. Friedrichsdorfer Poetry Slam
DESCRIPTION:Freie Sitzplatzwahl \nTickets online bei Eventim \noder im Eiscafe DaGiusy\, Philipp-Reis-Passage 5\, 61381 Friedrichsdorf \nEinlass 19:00    Beginn: 19:30 \n\nPreise: Erwachsene 15€    Ermäßigt: 11€
URL:https://kuenstlerkiste-ev.de/event/10-friedrichsdorfer-poetry-slam/
LOCATION:Ganiers Keller\, Hugenottenstraße 117\, Friedrichsdorf\, 61381\, Deutschland
CATEGORIES:Alle,Poetry Slam
END:VEVENT
BEGIN:VEVENT
DTSTART;TZID=Europe/Berlin:20241205T193000
DTEND;TZID=Europe/Berlin:20241205T220000
DTSTAMP:20260421T111413
CREATED:20240821T201942Z
LAST-MODIFIED:20240821T211522Z
UID:106-1733427000-1733436000@kuenstlerkiste-ev.de
SUMMARY:9. Friedrichsdorfer Poetry Slam
DESCRIPTION:Freie Sitzplatzwahl \nTickets online bei Eventim \noder im Eiscafe DaGiusy\, Philipp-Reis-Passage 5\, 61381 Friedrichsdorf \nEinlass 19:00    Beginn: 19:30 \n\nPreise: Erwachsene 15€    Ermäßigt: 11€
URL:https://kuenstlerkiste-ev.de/event/9-friedrichsdorfer-poetry-slam/
LOCATION:Ganiers Keller\, Hugenottenstraße 117\, Friedrichsdorf\, 61381\, Deutschland
CATEGORIES:Alle,Poetry Slam
END:VEVENT
BEGIN:VEVENT
DTSTART;TZID=Europe/Berlin:20241128T193000
DTEND;TZID=Europe/Berlin:20241128T220000
DTSTAMP:20260421T111413
CREATED:20240821T203008Z
LAST-MODIFIED:20240821T211619Z
UID:119-1732822200-1732831200@kuenstlerkiste-ev.de
SUMMARY:NOVEMBER Singer-Songwriter Night im Färberhäuschen
DESCRIPTION:Unsere Musiker: Reni +  Salomon
URL:https://kuenstlerkiste-ev.de/event/november-singer-songwriter-night-im-faerberhaeuschen/
LOCATION:Bistro Färberhäuschen\, Hugenottenstraße 104\, Friedrichsdorf\, 61381\, Deutschland
CATEGORIES:Alle,Singer-Songwriter Night
END:VEVENT
BEGIN:VEVENT
DTSTART;TZID=Europe/Berlin:20241107T193000
DTEND;TZID=Europe/Berlin:20241107T220000
DTSTAMP:20260421T111413
CREATED:20240821T201840Z
LAST-MODIFIED:20240821T211515Z
UID:103-1731007800-1731016800@kuenstlerkiste-ev.de
SUMMARY:8. Friedrichsdorfer Poetry Slam
DESCRIPTION:Freie Sitzplatzwahl \nTickets online bei Eventim \noder im Eiscafe DaGiusy\, Philipp-Reis-Passage 5\, 61381 Friedrichsdorf \nEinlass 19:00    Beginn: 19:30 \n\nPreise: Erwachsene 15€    Ermäßigt: 11€
URL:https://kuenstlerkiste-ev.de/event/8-friedrichsdorfer-poetry-slam/
LOCATION:Ganiers Keller\, Hugenottenstraße 117\, Friedrichsdorf\, 61381\, Deutschland
CATEGORIES:Alle,Poetry Slam
END:VEVENT
BEGIN:VEVENT
DTSTART;TZID=Europe/Berlin:20241031T193000
DTEND;TZID=Europe/Berlin:20241031T223000
DTSTAMP:20260421T111413
CREATED:20240821T202741Z
LAST-MODIFIED:20240901T120202Z
UID:115-1730403000-1730413800@kuenstlerkiste-ev.de
SUMMARY:Halloween Special "The Benchfries" im Färberhäuschen
DESCRIPTION:Die Singer-Songwriter Night wird im Oktober abgelößt duch das Künstlerkisten Halloween Special. \nMit Livemusik von The Benchfries. \nBeginn 19:30 \nEintritt Frei \n 
URL:https://kuenstlerkiste-ev.de/event/halloween-special-the-benchfries-im-faerberhaeuschen/
LOCATION:Bistro Färberhäuschen\, Hugenottenstraße 104\, Friedrichsdorf\, 61381\, Deutschland
END:VEVENT
BEGIN:VEVENT
DTSTART;TZID=Europe/Berlin:20241010T193000
DTEND;TZID=Europe/Berlin:20241010T220000
DTSTAMP:20260421T111413
CREATED:20240821T201657Z
LAST-MODIFIED:20240821T211455Z
UID:101-1728588600-1728597600@kuenstlerkiste-ev.de
SUMMARY:7. Friedrichsdorfer Poetry Slam
DESCRIPTION:Freie Sitzplatzwahl \nTickets online bei Eventim \noder im Eiscafe DaGiusy\, Philipp-Reis-Passage 5\, 61381 Friedrichsdorf \nEinlass 19:00    Beginn: 19:30 \n\nPreise: Erwachsene 15€    Ermäßigt: 11€
URL:https://kuenstlerkiste-ev.de/event/7-friedrichsdorfer-poetry-slam/
LOCATION:Ganiers Keller\, Hugenottenstraße 117\, Friedrichsdorf\, 61381\, Deutschland
CATEGORIES:Alle,Poetry Slam
END:VEVENT
BEGIN:VEVENT
DTSTART;TZID=Europe/Berlin:20240926T193000
DTEND;TZID=Europe/Berlin:20240926T220000
DTSTAMP:20260421T111413
CREATED:20240821T201020Z
LAST-MODIFIED:20240821T203125Z
UID:90-1727379000-1727388000@kuenstlerkiste-ev.de
SUMMARY:SEPTEMBER Singer-Songwriter Night im Färberhäuschen
DESCRIPTION:Unsere Musiker: Hanna im Einklang + Jan-Eric (Light and Rain) \n 
URL:https://kuenstlerkiste-ev.de/event/singer-songwriter-night-im-faerberhaeuschen-2/
LOCATION:Bistro Färberhäuschen\, Hugenottenstraße 104\, Friedrichsdorf\, 61381\, Deutschland
CATEGORIES:Alle,Singer-Songwriter Night
END:VEVENT
END:VCALENDAR